BEGIN:VCALENDAR
VERSION:2.0
PRODID:-// - ECPv6.15.15//NONSGML v1.0//EN
CALSCALE:GREGORIAN
METHOD:PUBLISH
X-ORIGINAL-URL:https://sirre.org
X-WR-CALDESC:Events for 
REFRESH-INTERVAL;VALUE=DURATION:PT1H
X-Robots-Tag:noindex
X-PUBLISHED-TTL:PT1H
BEGIN:VTIMEZONE
TZID:UTC
BEGIN:STANDARD
TZOFFSETFROM:+0000
TZOFFSETTO:+0000
TZNAME:UTC
DTSTART:20250101T000000
END:STANDARD
END:VTIMEZONE
BEGIN:VEVENT
DTSTART;VALUE=DATE:20260108
DTEND;VALUE=DATE:20260109
DTSTAMP:20260421T212433
CREATED:20260331T144820Z
LAST-MODIFIED:20260331T144820Z
UID:196-1767830400-1767916799@sirre.org
SUMMARY:Online meeting “Structures” with guests Mara Mara Marin and Katelin Albert
DESCRIPTION:
URL:https://sirre.org/event/online-meeting-structures-with-guests-mara-mara-marin-and-katelin-albert/
END:VEVENT
BEGIN:VEVENT
DTSTART;VALUE=DATE:20260319
DTEND;VALUE=DATE:20260320
DTSTAMP:20260421T212433
CREATED:20260331T145035Z
LAST-MODIFIED:20260331T145035Z
UID:198-1773878400-1773964799@sirre.org
SUMMARY:Online meeting “Structural health injustice” with guests Kristin Voigt and Sridhar Venkatapuram
DESCRIPTION:
URL:https://sirre.org/event/online-meeting-structural-health-injustice-with-guests-kristin-voigt-and-sridhar-venkatapuram/
END:VEVENT
BEGIN:VEVENT
DTSTART;VALUE=DATE:20260521
DTEND;VALUE=DATE:20260522
DTSTAMP:20260421T212433
CREATED:20260331T145103Z
LAST-MODIFIED:20260331T145103Z
UID:200-1779321600-1779407999@sirre.org
SUMMARY:Online meeting “Racism” with guests Yann Allard-Tremblay and Robin Celikates
DESCRIPTION:
URL:https://sirre.org/event/online-meeting-racism-with-guests-yann-allard-tremblay-and-robin-celikates/
END:VEVENT
BEGIN:VEVENT
DTSTART;VALUE=DATE:20260917
DTEND;VALUE=DATE:20260919
DTSTAMP:20260421T212433
CREATED:20260331T145136Z
LAST-MODIFIED:20260331T145136Z
UID:202-1789603200-1789775999@sirre.org
SUMMARY:Annual Conference Centre de Recherche en Ethique\, Université de Montréal “Structural Injustice"
DESCRIPTION:
URL:https://sirre.org/event/annual-conference-centre-de-recherche-en-ethique-universite-de-montreal-structural-injustice/
END:VEVENT
END:VCALENDAR